BEGIN:VCALENDAR
VERSION:2.0
PRODID:-//Baugutachter &amp; Immobiliensachverständiger Stefan Lange - ECPv6.15.20//NONSGML v1.0//EN
CALSCALE:GREGORIAN
METHOD:PUBLISH
X-ORIGINAL-URL:https://baugutachter-lange.de
X-WR-CALDESC:Veranstaltungen für Baugutachter &amp; Immobiliensachverständiger Stefan Lange
REFRESH-INTERVAL;VALUE=DURATION:PT1H
X-Robots-Tag:noindex
X-PUBLISHED-TTL:PT1H
BEGIN:VTIMEZONE
TZID:Europe/Berlin
BEGIN:DAYLIGHT
TZOFFSETFROM:+0100
TZOFFSETTO:+0200
TZNAME:CEST
DTSTART:20230326T010000
END:DAYLIGHT
BEGIN:STANDARD
TZOFFSETFROM:+0200
TZOFFSETTO:+0100
TZNAME:CET
DTSTART:20231029T010000
END:STANDARD
BEGIN:DAYLIGHT
TZOFFSETFROM:+0100
TZOFFSETTO:+0200
TZNAME:CEST
DTSTART:20240331T010000
END:DAYLIGHT
BEGIN:STANDARD
TZOFFSETFROM:+0200
TZOFFSETTO:+0100
TZNAME:CET
DTSTART:20241027T010000
END:STANDARD
BEGIN:DAYLIGHT
TZOFFSETFROM:+0100
TZOFFSETTO:+0200
TZNAME:CEST
DTSTART:20250330T010000
END:DAYLIGHT
BEGIN:STANDARD
TZOFFSETFROM:+0200
TZOFFSETTO:+0100
TZNAME:CET
DTSTART:20251026T010000
END:STANDARD
END:VTIMEZONE
BEGIN:VEVENT
DTSTART;TZID=Europe/Berlin:20240419T090000
DTEND;TZID=Europe/Berlin:20240419T153000
DTSTAMP:20260424T155940
CREATED:20240318T135355Z
LAST-MODIFIED:20240403T142830Z
UID:3064-1713517200-1713540600@baugutachter-lange.de
SUMMARY:Tagesseminar: Ermittlung von Zeitwert und optischem Minderwertausgleich!
DESCRIPTION:Bitte aktiviere JavaScript in deinem Browser\, um dieses Formular fertigzustellen.Bitte aktiviere JavaScript in deinem Browser\, um dieses Formular fertigzustellen.Name *VornameNachnameEmail *Phone NumberZeitwert- u. Minderwertausgleich am 19.04.2024 *💼 Ermittlung von Zeitwert und optischem Minderwertausgleich - Entdecken Sie die Geheimnisse der Schadensbewertung! 📊 Tauchen Sie ein in die Welt der Zeitwerte und des optischen Minderwertausgleichs. Lernen Sie bewährte Verfahren kennen und wenden Sie Ihr Wissen in der Praxis an. 💡 Rechnungsadresse *AdressePLZ *Stadt *Bundesland *Zusätzliche Informationen an den VeranstalterBestätigung *Ich bestätige\, dass ich die Allgemeinen Geschäftsbedingungen gelesen habe und damit einverstanden bin.Mit absenden des Formulars bestätige ich meine kostenpflichtige Bestellung auf Rechnung.Sollten Sie via PayPal zahlen wollen\, versenden Sie dieses Formular bitte erst nach kostenpflichtiger Bestellung über den PayPal-Button. Dieses Formular dient dann in erster Linie der Teilnehmererfassung. senden  Am 19.04.2024 öffnen wir erneut die Türen zu einem faszinierenden Seminar über die Ermittlung von progressiven und regressiven Zeitwerten sowie optischem Minderwertausgleich. Tauchen Sie mit uns ein in die Welt der Schadensbewertung und erweitern Sie Ihr Fachwissen auf praxisnahe Weise.
URL:https://baugutachter-lange.de/event/tagesseminar-ermittlung-von-zeitwert-und-optischem-minderwertausgleich/
LOCATION:Office & friends\, Am großen Teich 20\, Iserlohn\, NRW\, 58640\, Deutschland
CATEGORIES:Tagesseminar
ATTACH;FMTTYPE=image/jpeg:https://baugutachter-lange.de/wp-content/uploads/2024/03/hagel.jpg
ORGANIZER;CN="ILS - Bau - Consulting UG.":MAILTO:dispo@ils-bau-consulting.de
END:VEVENT
END:VCALENDAR