BEGIN:VCALENDAR
VERSION:2.0
PRODID:-//Baugutachter &amp; Immobiliensachverständiger Stefan Lange - ECPv6.15.20//NONSGML v1.0//EN
CALSCALE:GREGORIAN
METHOD:PUBLISH
X-WR-CALNAME:Baugutachter &amp; Immobiliensachverständiger Stefan Lange
X-ORIGINAL-URL:https://baugutachter-lange.de
X-WR-CALDESC:Veranstaltungen für Baugutachter &amp; Immobiliensachverständiger Stefan Lange
REFRESH-INTERVAL;VALUE=DURATION:PT1H
X-Robots-Tag:noindex
X-PUBLISHED-TTL:PT1H
BEGIN:VTIMEZONE
TZID:UTC
BEGIN:STANDARD
TZOFFSETFROM:+0000
TZOFFSETTO:+0000
TZNAME:UTC
DTSTART:20240101T000000
END:STANDARD
END:VTIMEZONE
BEGIN:VEVENT
DTSTART;TZID=UTC:20250120T160000
DTEND;TZID=UTC:20250120T180000
DTSTAMP:20260422T021204
CREATED:20241212T071459Z
LAST-MODIFIED:20241212T071459Z
UID:3676-1737388800-1737396000@baugutachter-lange.de
SUMMARY:Erfolgsfaktor Kalkulation: Strategien und Rechtsgrundlagen zur optimalen Schadensregulierung
DESCRIPTION:Tauchen Sie ein in die Welt der Schadenskalkulation mit unserem exklusiven Online-Seminar der Rekon Interschaden! Dieses praxisorientierte Inhouse-Training vermittelt Ihnen die Grundlagen und Vertiefung der Kalkulation in der Regulierungsbranche. Lernen Sie\, wie Pauschalen für eine schnelle Vorkalkulation genutzt werden können\, wann eine detaillierte Bewertung sinnvoll ist und auf welchen rechtlichen Grundlagen Ihre Kalkulation basiert. Perfekt zugeschnitten auf die Bedürfnisse Ihres Teams\, bietet das Seminar eine fundierte Wissensbasis für effiziente und rechtssichere Schadensregulierung – direkt und bequem online!
URL:https://baugutachter-lange.de/event/erfolgsfaktor-kalkulation-strategien-und-rechtsgrundlagen-zur-optimalen-schadensregulierung/
CATEGORIES:Onlineseminar
ATTACH;FMTTYPE=image/jpeg:https://baugutachter-lange.de/wp-content/uploads/2018/07/Fotolia_212200260_XS.jpg
END:VEVENT
END:VCALENDAR