BEGIN:VCALENDAR
VERSION:2.0
PRODID:-//Baugutachter &amp; Immobiliensachverständiger Stefan Lange - ECPv6.15.20//NONSGML v1.0//EN
CALSCALE:GREGORIAN
METHOD:PUBLISH
X-WR-CALNAME:Baugutachter &amp; Immobiliensachverständiger Stefan Lange
X-ORIGINAL-URL:https://baugutachter-lange.de
X-WR-CALDESC:Veranstaltungen für Baugutachter &amp; Immobiliensachverständiger Stefan Lange
REFRESH-INTERVAL;VALUE=DURATION:PT1H
X-Robots-Tag:noindex
X-PUBLISHED-TTL:PT1H
BEGIN:VTIMEZONE
TZID:UTC
BEGIN:STANDARD
TZOFFSETFROM:+0000
TZOFFSETTO:+0000
TZNAME:UTC
DTSTART:20240101T000000
END:STANDARD
END:VTIMEZONE
BEGIN:VEVENT
DTSTART;VALUE=DATE:20250131
DTEND;VALUE=DATE:20250202
DTSTAMP:20260424T053229
CREATED:20241212T073708Z
LAST-MODIFIED:20241212T085727Z
UID:3680-1738281600-1738454399@baugutachter-lange.de
SUMMARY:Karriereboost 360° – Basiswissen und Direkteinstieg für Regulierer
DESCRIPTION:Dieses zweitägige Seminar vermittelt fundiertes versicherungsrechtliches Wissen\, praxisorientierte Strategien zur Schadensregulierung und bietet wertvolle Netzwerkmöglichkeiten. Ideal für Neu- und Quereinsteiger\, die einen direkten Einstieg in die Regulierertätigkeit suchen und ihre Karriere in der Versicherungsbranche starten möchten.
URL:https://baugutachter-lange.de/event/karriereboost-360-basiswissen-und-direkteinstieg-fuer-regulierer/
LOCATION:Bildungsherberge FernUni Hagen\, Roggenkamp 10\, Hagen\, Nordrheinwestfalen\, 58093\, Germany
CATEGORIES:Tagesseminar
ATTACH;FMTTYPE=image/jpeg:https://baugutachter-lange.de/wp-content/uploads/2023/08/GridArt_20230802_103837166-4.jpg
ORGANIZER;CN="ILS - Bau - Consulting UG.":MAILTO:dispo@ils-bau-consulting.de
END:VEVENT
END:VCALENDAR